BEGIN:VCALENDAR
VERSION:2.0
PRODID:-//Souffle de vies - ECPv6.15.20//NONSGML v1.0//EN
CALSCALE:GREGORIAN
METHOD:PUBLISH
X-WR-CALNAME:Souffle de vies
X-ORIGINAL-URL:https://souffledevies.be
X-WR-CALDESC:Évènements pour Souffle de vies
REFRESH-INTERVAL;VALUE=DURATION:PT1H
X-Robots-Tag:noindex
X-PUBLISHED-TTL:PT1H
BEGIN:VTIMEZONE
TZID:Europe/Paris
BEGIN:DAYLIGHT
TZOFFSETFROM:+0100
TZOFFSETTO:+0200
TZNAME:CEST
DTSTART:20230326T010000
END:DAYLIGHT
BEGIN:STANDARD
TZOFFSETFROM:+0200
TZOFFSETTO:+0100
TZNAME:CET
DTSTART:20231029T010000
END:STANDARD
BEGIN:DAYLIGHT
TZOFFSETFROM:+0100
TZOFFSETTO:+0200
TZNAME:CEST
DTSTART:20240331T010000
END:DAYLIGHT
BEGIN:STANDARD
TZOFFSETFROM:+0200
TZOFFSETTO:+0100
TZNAME:CET
DTSTART:20241027T010000
END:STANDARD
BEGIN:DAYLIGHT
TZOFFSETFROM:+0100
TZOFFSETTO:+0200
TZNAME:CEST
DTSTART:20250330T010000
END:DAYLIGHT
BEGIN:STANDARD
TZOFFSETFROM:+0200
TZOFFSETTO:+0100
TZNAME:CET
DTSTART:20251026T010000
END:STANDARD
END:VTIMEZONE
BEGIN:VEVENT
DTSTART;TZID=Europe/Paris:20241020T090000
DTEND;TZID=Europe/Paris:20241020T170000
DTSTAMP:20260425T153350
CREATED:20240912T182715Z
LAST-MODIFIED:20241013T130417Z
UID:1042-1729414800-1729443600@souffledevies.be
SUMMARY:Formation en PNL
DESCRIPTION:une journée : le 20 octobre!\nSi vous aimez le développement personnel\, Lindsay\, Coach Confiance et Estime de soi.  vous propose une journée pour découvrir avec moi les bienfaits de la programmation neuro linguistique ( PNL).\nCette journée d’initiation PNL a pour objectif de découvrir comment la PNL peut vous servir dans vos projets personnels ou professionnels.\nUne journée qui vous transportera dans l’Univers puissant de la PNL pour impulser un maximum de bien-être dans votre vie.\nObjectif de la journée\n•	Obtenir un maximum de réponses à vos questions concernant la PNL et son application dans votre évolution de vie actuelle qu’elle soit personnelle ou professionnelle.\n•	Expérimenter quelques techniques PNL et évaluer son impact immédiat tant sur la clarté de vos objectifs\, la gestion de vos émotions ou l’amélioration de vos relations.\n•	Echanger avec d’autres participants et vous enrichir de la diversité de leurs expériences partagées dans cette journée.\n•	Repartir avec une conviction plus forte sur vos choix et votre positionnement vis-à-vis de la PNL et de comment elle va impacter vos domaines de vie sur le plan personnel et professionnel.\nPROGRAMME :\n1) Application de la PNL :\n2) L’objectif\n3) Les émotions\n4) La communication
URL:https://souffledevies.be/event/formation-en-pnl/
LOCATION:Hyon\, Place d’Hyon 14\, Hyon\, 7022\, Belgique
CATEGORIES:Développement personnel
ATTACH;FMTTYPE=image/jpeg:https://souffledevies.be/wp-content/uploads/2024/09/pnl2jpg.jpg
END:VEVENT
END:VCALENDAR