BEGIN:VCALENDAR
VERSION:2.0
PRODID:-//Souffle de vies - ECPv6.15.20//NONSGML v1.0//EN
CALSCALE:GREGORIAN
METHOD:PUBLISH
X-ORIGINAL-URL:https://souffledevies.be
X-WR-CALDESC:Évènements pour Souffle de vies
REFRESH-INTERVAL;VALUE=DURATION:PT1H
X-Robots-Tag:noindex
X-PUBLISHED-TTL:PT1H
BEGIN:VTIMEZONE
TZID:Europe/Paris
BEGIN:DAYLIGHT
TZOFFSETFROM:+0100
TZOFFSETTO:+0200
TZNAME:CEST
DTSTART:20250330T010000
END:DAYLIGHT
BEGIN:STANDARD
TZOFFSETFROM:+0200
TZOFFSETTO:+0100
TZNAME:CET
DTSTART:20251026T010000
END:STANDARD
BEGIN:DAYLIGHT
TZOFFSETFROM:+0100
TZOFFSETTO:+0200
TZNAME:CEST
DTSTART:20260329T010000
END:DAYLIGHT
BEGIN:STANDARD
TZOFFSETFROM:+0200
TZOFFSETTO:+0100
TZNAME:CET
DTSTART:20261025T010000
END:STANDARD
BEGIN:DAYLIGHT
TZOFFSETFROM:+0100
TZOFFSETTO:+0200
TZNAME:CEST
DTSTART:20270328T010000
END:DAYLIGHT
BEGIN:STANDARD
TZOFFSETFROM:+0200
TZOFFSETTO:+0100
TZNAME:CET
DTSTART:20271031T010000
END:STANDARD
END:VTIMEZONE
BEGIN:VEVENT
DTSTART;TZID=Europe/Paris:20260110T090000
DTEND;TZID=Europe/Paris:20260110T130000
DTSTAMP:20260420T102435
CREATED:20251229T200947Z
LAST-MODIFIED:20251229T200947Z
UID:1644-1768035600-1768050000@souffledevies.be
SUMMARY:Lecture émotionnelle des pieds
DESCRIPTION:La cartographie émotionnelle des pieds constitue une grille de lecture psychologique\, émotionnelle et biologique.\nElle permet de percevoir les mémoires émotionnelles de la personne – ce que le corps a engrammer dans les différentes étapes de sa Vie\, sur lesquelles la personne s’appuie\, de façon inconsciente.\nLa lecture de  l’empreinte des pieds est orientée vers la compréhension\, la mise en sens des émotions liées aux problématiques de vie du vécu actuel\, à celui de l’enfance et au transgénérationnel. \nPrix : 80 euros\nInscription par le site ou au 0472239677
URL:https://souffledevies.be/event/lecture-emotionnelle-des-pieds/
LOCATION:Hyon\, Place d’Hyon 14\, Hyon\, 7022\, Belgique
CATEGORIES:Développement personnel,Soins énergétiques
ATTACH;FMTTYPE=image/jpeg:https://souffledevies.be/wp-content/uploads/2025/12/image-pied-4.jpg
ORGANIZER;CN="Val%C3%A9rie Alard":MAILTO:souffledevies@gmail.com
END:VEVENT
END:VCALENDAR