BEGIN:VCALENDAR
VERSION:2.0
PRODID:-//Souffle de vies - ECPv6.15.20//NONSGML v1.0//EN
CALSCALE:GREGORIAN
METHOD:PUBLISH
X-ORIGINAL-URL:https://souffledevies.be
X-WR-CALDESC:Évènements pour Souffle de vies
REFRESH-INTERVAL;VALUE=DURATION:PT1H
X-Robots-Tag:noindex
X-PUBLISHED-TTL:PT1H
BEGIN:VTIMEZONE
TZID:Europe/Paris
BEGIN:DAYLIGHT
TZOFFSETFROM:+0100
TZOFFSETTO:+0200
TZNAME:CEST
DTSTART:20250330T010000
END:DAYLIGHT
BEGIN:STANDARD
TZOFFSETFROM:+0200
TZOFFSETTO:+0100
TZNAME:CET
DTSTART:20251026T010000
END:STANDARD
BEGIN:DAYLIGHT
TZOFFSETFROM:+0100
TZOFFSETTO:+0200
TZNAME:CEST
DTSTART:20260329T010000
END:DAYLIGHT
BEGIN:STANDARD
TZOFFSETFROM:+0200
TZOFFSETTO:+0100
TZNAME:CET
DTSTART:20261025T010000
END:STANDARD
BEGIN:DAYLIGHT
TZOFFSETFROM:+0100
TZOFFSETTO:+0200
TZNAME:CEST
DTSTART:20270328T010000
END:DAYLIGHT
BEGIN:STANDARD
TZOFFSETFROM:+0200
TZOFFSETTO:+0100
TZNAME:CET
DTSTART:20271031T010000
END:STANDARD
END:VTIMEZONE
BEGIN:VEVENT
DTSTART;TZID=Europe/Paris:20260614T133000
DTEND;TZID=Europe/Paris:20260614T180000
DTSTAMP:20260420T102242
CREATED:20260412T163702Z
LAST-MODIFIED:20260412T163702Z
UID:1768-1781443800-1781460000@souffledevies.be
SUMMARY:Formation massage crânien indien
DESCRIPTION:Le massage crânien d’origine indienne consiste à des mouvements doux et plus appuyés sur le cuir chevelu\, le haut du dos\, le décolleté et le visage.\nIl convient à toute personne qui souhaite se détendre.\nIl procure divers bienfaits dont l’apaisement des tensions musculaires\, renforce la chevelure\, améliore la circulation\, renouvelle l’énergie et améliore le sommeil.\nIl favorise également la concentration et soulage les maux de tête.\nLes mouvements s’alternent entre pressions légères et plus fortes provoquant un réel moment de détente.\nCe massage permet de détendre tout le corps en stimulant les points réflexes. \nMATERIEL A EMPORTER :\n– grands et petits essuies\n– de l’huile de massage\n– une couverture\n– des sandales en plastique\n– 1 paréo ou grande serviette pour placer au niveau du buste \nPrix : 100 euros
URL:https://souffledevies.be/event/formation-massage-cranien-indien-2/
LOCATION:Hyon\, Place d’Hyon 14\, Hyon\, 7022\, Belgique
CATEGORIES:Massages
ATTACH;FMTTYPE=image/png:https://souffledevies.be/wp-content/uploads/2024/06/image-10.png
ORGANIZER;CN="Val%C3%A9rie Alard":MAILTO:souffledevies@gmail.com
END:VEVENT
BEGIN:VEVENT
DTSTART;TZID=Europe/Paris:20260627T090000
DTEND;TZID=Europe/Paris:20260627T150000
DTSTAMP:20260420T102242
CREATED:20260412T165028Z
LAST-MODIFIED:20260412T165028Z
UID:1771-1782550800-1782572400@souffledevies.be
SUMMARY:Initiation à la réflexologie plantaire
DESCRIPTION:Formatrice avec plus de 10 années d’expérience.\nJe vous propose une journée pour apprendre le massage de détente et quelques zones réflexes des parties du corps liées à certaines pathologie.\nVenez découvrir.\nnous pourrions par après continuer en choisissant quelques dates pour apprendre toutes les zones et systèmes du massage complet.\nPrix : 70 euros
URL:https://souffledevies.be/event/initiation-a-la-reflexologie-plantaire/
LOCATION:Hyon\, Place d’Hyon 14\, Hyon\, 7022\, Belgique
CATEGORIES:Massages
ATTACH;FMTTYPE=image/jpeg:https://souffledevies.be/wp-content/uploads/2024/06/reflexologie-plantaire.jpg
ORGANIZER;CN="Val%C3%A9rie Alard":MAILTO:souffledevies@gmail.com
END:VEVENT
END:VCALENDAR